BEGIN:VCALENDAR
VERSION:2.0
PRODID:icalendar-ruby
CALSCALE:GREGORIAN
METHOD:PUBLISH
BEGIN:VEVENT
DTSTAMP:20260421T215141Z
UID:5-1479609@wesleymemorialumc.net
DTSTART:20261025T150000Z
DTEND:20261025T160000Z
CLASS:PUBLIC
CREATED:20260421T161520
DESCRIPTION:Sunday Worship
LAST-MODIFIED:20260421T161520
LOCATION:
SUMMARY:Sunday Worship
URL;VALUE=URI:https://www.wesleymemorialumc.net/events/sunday-worship/2026-
 10-25
END:VEVENT
END:VCALENDAR
