BEGIN:VCALENDAR
VERSION:2.0
PRODID:icalendar-ruby
CALSCALE:GREGORIAN
METHOD:PUBLISH
BEGIN:VEVENT
DTSTAMP:20260421T160155Z
UID:5-1478848@wesleymemorialumc.net
DTSTART:20261004T150000Z
DTEND:20261004T160000Z
CLASS:PUBLIC
CREATED:20260421T105916
DESCRIPTION:Sunday Worship
LAST-MODIFIED:20260421T105916
LOCATION:
SUMMARY:Sunday Worship
URL;VALUE=URI:https://www.wesleymemorialumc.net/events/sunday-worship/2026-
 10-04
END:VEVENT
END:VCALENDAR
