BEGIN:VCALENDAR
VERSION:2.0
PRODID:icalendar-ruby
CALSCALE:GREGORIAN
METHOD:PUBLISH
BEGIN:VEVENT
DTSTAMP:20260421T085123Z
UID:5-1478086@wesleymemorialumc.net
DTSTART:20260906T150000Z
DTEND:20260906T160000Z
CLASS:PUBLIC
CREATED:20260420T211626
DESCRIPTION:Sunday Worship
LAST-MODIFIED:20260420T211626
LOCATION:
SUMMARY:Sunday Worship
URL;VALUE=URI:https://www.wesleymemorialumc.net/events/sunday-worship/2026-
 09-06
END:VEVENT
END:VCALENDAR
